BEGIN:VCALENDAR
VERSION:2.0
PRODID:SchoolNow
CALSCALE:GREGORIAN
BEGIN:VEVENT
UID:884f4cee-c0e4-11f0-b529-0238ce0fa40f
DTSTAMP:20251216T154523Z
SUMMARY:SOCCER-V Girls @ Chicago Christian (Game)
LOCATION:Away - Chicago Christian
URL;VALUE=URI:https://www.cusd201.org/whs/athletics/calendar/8794340/soccer
 -v-girls-chicago-christian-game
DTSTART:20260321T150000Z
DTEND:20260321T170000Z
END:VEVENT
END:VCALENDAR
