BEGIN:VCALENDAR
VERSION:2.0
PRODID:SchoolNow
CALSCALE:GREGORIAN
BEGIN:VEVENT
UID:518032ae-c513-11f0-a4b1-0affd7ef3767
DTSTAMP:20251216T154523Z
SUMMARY:SOFTBALL-V Girls - VS Proviso West (Game)
LOCATION:HOME - Westmont HS Softball Field
URL;VALUE=URI:https://www.cusd201.org/whs/athletics/calendar/8803182/softba
 ll-v-girls-vs-proviso-west-game
DTSTART:20260409T213000Z
DTEND:20260409T233000Z
END:VEVENT
END:VCALENDAR
