BEGIN:VCALENDAR
VERSION:2.0
PRODID:SchoolNow
CALSCALE:GREGORIAN
BEGIN:VEVENT
UID:45517b76-c678-11f0-9b4a-0a58a9feac02
DTSTAMP:20251216T154523Z
SUMMARY:BASEBALL-V Boys - VS Marmion Academy (Game)
LOCATION:HOME - Westmont HS Varsity Baseball Field
URL;VALUE=URI:https://www.cusd201.org/whs/athletics/calendar/8806528/baseba
 ll-v-boys-vs-marmion-academy-game
DTSTART:20260408T213000Z
DTEND:20260408T233000Z
END:VEVENT
END:VCALENDAR
