BEGIN:VCALENDAR
VERSION:2.0
PRODID:SchoolNow
CALSCALE:GREGORIAN
BEGIN:VEVENT
UID:455fd018-c678-11f0-9687-0a58a9feac02
DTSTAMP:20251216T154522Z
SUMMARY:SOFTBALL-V Girls - VS Streamwood (Game)
LOCATION:HOME - Westmont HS Softball Field
URL;VALUE=URI:https://www.cusd201.org/whs/athletics/calendar/8806529/softba
 ll-v-girls-vs-streamwood-game
DTSTART:20260320T213000Z
DTEND:20260320T233000Z
END:VEVENT
END:VCALENDAR
