BEGIN:VCALENDAR
VERSION:2.0
PRODID:SchoolNow
CALSCALE:GREGORIAN
BEGIN:VEVENT
UID:d3e24e4a-cf08-11f0-b2f0-0afffadb9fbb
DTSTAMP:20251216T154523Z
SUMMARY:TRACK and FIELD-V Girls @ Elmwood Park (Game)
LOCATION:Away - Elmwood Park
URL;VALUE=URI:https://www.cusd201.org/whs/athletics/calendar/8814996/track-
 and-field-v-girls-elmwood-park-game
DTSTART:20260424T213000Z
DTEND:20260425T023000Z
END:VEVENT
END:VCALENDAR
