BEGIN:VCALENDAR
VERSION:2.0
PRODID:SchoolNow
CALSCALE:GREGORIAN
BEGIN:VEVENT
UID:d3ebb106-cf08-11f0-8243-0afffadb9fbb
DTSTAMP:20251216T154523Z
SUMMARY:TRACK and FIELD-V Boys @ Elmwood Park (Game)
LOCATION:Away - Elmwood Park
URL;VALUE=URI:https://www.cusd201.org/whs/athletics/calendar/8814997/track-
 and-field-v-boys-elmwood-park-game
DTSTART:20260424T213000Z
DTEND:20260425T023000Z
END:VEVENT
END:VCALENDAR
