BEGIN:VCALENDAR
VERSION:2.0
PRODID:SchoolNow
CALSCALE:GREGORIAN
BEGIN:VEVENT
UID:d3ebced4-cf08-11f0-9bd4-0afffadb9fbb
DTSTAMP:20251216T154523Z
SUMMARY:BASKETBALL-V Girls @ Reavis High School (Game)
LOCATION:Away - Reavis High School
URL;VALUE=URI:https://www.cusd201.org/whs/athletics/calendar/8814998/basket
 ball-v-girls-reavis-high-school-game
DTSTART:20251212T230000Z
DTEND:20251213T010000Z
END:VEVENT
END:VCALENDAR
