BEGIN:VCALENDAR
VERSION:2.0
PRODID:SchoolNow
CALSCALE:GREGORIAN
BEGIN:VEVENT
UID:c59d1b3a-d007-11f0-b09a-0e33848f0945
DTSTAMP:20251216T154522Z
SUMMARY:SOCCER-V Girls - VS ISLAMIC FOUNDATION (Game)
LOCATION:HOME - Westmont HS Stadium
URL;VALUE=URI:https://www.cusd201.org/whs/athletics/calendar/8816449/soccer
 -v-girls-vs-islamic-foundation-game
DTSTART:20260415T220000Z
DTEND:20260416T000000Z
END:VEVENT
END:VCALENDAR
