BEGIN:VCALENDAR
VERSION:2.0
PRODID:SchoolNow
CALSCALE:GREGORIAN
BEGIN:VEVENT
UID:c5afa4da-d007-11f0-8633-0e33848f0945
DTSTAMP:20251216T154522Z
SUMMARY:SOCCER-V Girls @ Schaumburg Christian (Game)
LOCATION:Away - Schaumburg Christian
URL;VALUE=URI:https://www.cusd201.org/whs/athletics/calendar/8816450/soccer
 -v-girls-schaumburg-christian-game
DTSTART:20260417T210000Z
DTEND:20260417T230000Z
END:VEVENT
END:VCALENDAR
