BEGIN:VCALENDAR
VERSION:2.0
PRODID:SchoolNow
CALSCALE:GREGORIAN
BEGIN:VEVENT
UID:baa959a6-d0d3-11f0-a204-02596d13545d
DTSTAMP:20251216T154522Z
SUMMARY:SOCCER-V Girls - VS Illinois Math & Science Academy (Game)
LOCATION:HOME - Westmont HS Stadium
URL;VALUE=URI:https://www.cusd201.org/whs/athletics/calendar/8817165/soccer
 -v-girls-vs-illinois-math-science-academy-game
DTSTART:20260317T213000Z
DTEND:20260317T233000Z
END:VEVENT
END:VCALENDAR
