BEGIN:VCALENDAR
VERSION:2.0
PRODID:SchoolNow
CALSCALE:GREGORIAN
BEGIN:VEVENT
UID:6c87249c-d6cd-11f0-bee8-0affcff44df9
DTSTAMP:20251216T154522Z
SUMMARY:TIME TBD- Junior High Soccer- - VS  (Other)
LOCATION:HOME -
URL;VALUE=URI:https://www.cusd201.org/whs/athletics/calendar/8822274/time-t
 bd-junior-high-soccer-vs-other
DTSTART:20260410T050000Z
DTEND:20260411T045900Z
END:VEVENT
END:VCALENDAR
