BEGIN:VCALENDAR
VERSION:2.0
PRODID:SchoolNow
CALSCALE:GREGORIAN
BEGIN:VEVENT
UID:56e9c8e4-d865-11f0-a598-0a58a9feac02
DTSTAMP:20251216T154523Z
SUMMARY:SOFTBALL-V Girls @ Eisenhower (Game)
LOCATION:Away - Eisenhower
URL;VALUE=URI:https://www.cusd201.org/whs/athletics/calendar/8823423/softba
 ll-v-girls-eisenhower-game
DTSTART:20260410T213000Z
DTEND:20260410T233000Z
END:VEVENT
END:VCALENDAR
