BEGIN:VCALENDAR
VERSION:2.0
PRODID:SchoolNow
CALSCALE:GREGORIAN
BEGIN:VEVENT
UID:56fed39c-d865-11f0-8c10-0a58a9feac02
DTSTAMP:20251216T154522Z
SUMMARY:WRESTLING-V Boys @ Chicago King (Game)
LOCATION:Away - Chicago King
URL;VALUE=URI:https://www.cusd201.org/whs/athletics/calendar/8823424/wrestl
 ing-v-boys-chicago-king-game
DTSTART:20251219T230000Z
DTEND:20251220T010000Z
END:VEVENT
END:VCALENDAR
