BEGIN:VCALENDAR
VERSION:2.0
PRODID:SchoolNow
CALSCALE:GREGORIAN
BEGIN:VEVENT
UID:3ff3e21a-da30-11f0-a5be-0a58a9feac02
DTSTAMP:20251216T154523Z
SUMMARY:SOFTBALL-V Girls - VS Thornton Fractional North High School (Game)
LOCATION:HOME - Westmont HS Softball Field
URL;VALUE=URI:https://www.cusd201.org/whs/athletics/calendar/8824772/softba
 ll-v-girls-vs-thornton-fractional-north-high-school-game
DTSTART:20260424T213000Z
DTEND:20260424T233000Z
END:VEVENT
END:VCALENDAR
