BEGIN:VCALENDAR
VERSION:2.0
PRODID:SchoolNow
CALSCALE:GREGORIAN
BEGIN:VEVENT
UID:f9fa271a-e7e1-11ef-995e-0a58a9feac02
DTSTAMP:20251216T154633Z
SUMMARY:Chess vs Eisenhower HOME
LOCATION:WJHS-1-Media Center (350)
URL;VALUE=URI:https://www.cusd201.org/wjhs/calendar/7449559/chess-vs-eisenh
 ower-home
DTSTART:20260120T221500Z
DTEND:20260120T231500Z
END:VEVENT
END:VCALENDAR
