BEGIN:VCALENDAR
VERSION:2.0
PRODID:SchoolNow
CALSCALE:GREGORIAN
BEGIN:VEVENT
UID:f9fa2a58-e7e1-11ef-a348-0a58a9feac02
DTSTAMP:20251216T154633Z
SUMMARY:Chess vs Lakeview HOME
LOCATION:WJHS-1-Media Center (350)
URL;VALUE=URI:https://www.cusd201.org/wjhs/calendar/7449560/chess-vs-lakevi
 ew-home
DTSTART:20260122T221500Z
DTEND:20260122T231500Z
END:VEVENT
END:VCALENDAR
