BEGIN:VCALENDAR
VERSION:2.0
PRODID:SchoolNow
CALSCALE:GREGORIAN
BEGIN:VEVENT
UID:f9fa2b98-e7e1-11ef-87af-0a58a9feac02
DTSTAMP:20251216T154633Z
SUMMARY:Chess vs O'Neill AWAY 635 59th St Downers Grove
LOCATION:O'Neill Middle School\, 635 59th St\, Downers Grove\, IL 60516\, U
 SA
URL;VALUE=URI:https://www.cusd201.org/wjhs/calendar/7449561/chess-vs-oneill
 -away-635-59th-st-downers-grove
DTSTART:20260129T221500Z
DTEND:20260129T231500Z
END:VEVENT
END:VCALENDAR
