BEGIN:VCALENDAR
VERSION:2.0
PRODID:SchoolNow
CALSCALE:GREGORIAN
BEGIN:VEVENT
UID:f9fa2ca6-e7e1-11ef-8429-0a58a9feac02
DTSTAMP:20251216T154633Z
SUMMARY:Chess vs Westview Hills AWAY 630 65th St. Willowbrook
LOCATION:Westview Hills Middle School\, 630 W 65th St\, Willowbrook\, IL 60
 527\, USA
URL;VALUE=URI:https://www.cusd201.org/wjhs/calendar/7449562/chess-vs-westvi
 ew-hills-away-630-65th-st-willowbrook
DTSTART:20260127T221500Z
DTEND:20260127T231500Z
END:VEVENT
END:VCALENDAR
