BEGIN:VCALENDAR
VERSION:2.0
PRODID:SchoolNow
CALSCALE:GREGORIAN
BEGIN:VEVENT
UID:f9fa2daa-e7e1-11ef-b698-0a58a9feac02
DTSTAMP:20251216T154633Z
SUMMARY:Chess vs Jefferson HOME
LOCATION:WJHS-1-Media Center (350)
URL;VALUE=URI:https://www.cusd201.org/wjhs/calendar/7449563/chess-vs-jeffer
 son-home
DTSTART:20260203T221500Z
DTEND:20260203T231500Z
END:VEVENT
END:VCALENDAR
