BEGIN:VCALENDAR
VERSION:2.0
PRODID:SchoolNow
CALSCALE:GREGORIAN
BEGIN:VEVENT
UID:f9fa2ea4-e7e1-11ef-921d-0a58a9feac02
DTSTAMP:20251216T154633Z
SUMMARY:Chess vs Old Quarry HOME
LOCATION:WJHS-1-Media Center (350)
URL;VALUE=URI:https://www.cusd201.org/wjhs/calendar/7449564/chess-vs-old-qu
 arry-home
DTSTART:20260212T221500Z
DTEND:20260212T231500Z
END:VEVENT
END:VCALENDAR
