BEGIN:VCALENDAR
VERSION:2.0
PRODID:SchoolNow
CALSCALE:GREGORIAN
BEGIN:VEVENT
UID:f9fa2f9e-e7e1-11ef-a1d4-0a58a9feac02
DTSTAMP:20251216T154633Z
SUMMARY:Chess vs Cass AWAY 8502 Bailey Rd Darien
LOCATION:Cass Junior High School\, 8502 Bailey Rd\, Darien\, IL 60561\, USA
URL;VALUE=URI:https://www.cusd201.org/wjhs/calendar/7449565/chess-vs-cass-a
 way-8502-bailey-rd-darien
DTSTART:20260210T221500Z
DTEND:20260210T231500Z
END:VEVENT
END:VCALENDAR
