BEGIN:VCALENDAR
VERSION:2.0
PRODID:SchoolNow
CALSCALE:GREGORIAN
BEGIN:VEVENT
UID:f9fa3084-e7e1-11ef-a2de-0a58a9feac02
DTSTAMP:20251216T154633Z
SUMMARY:Chess vs Herrick AWAY 4435 Middaugh Ave Downers Grove
LOCATION:Herrick Middle School\, 4435 Middaugh Ave\, Downers Grove\, IL 605
 15\, USA
URL;VALUE=URI:https://www.cusd201.org/wjhs/calendar/7449566/chess-vs-herric
 k-away-4435-middaugh-ave-downers-grove
DTSTART:20260219T221500Z
DTEND:20260219T231500Z
END:VEVENT
END:VCALENDAR
