BEGIN:VCALENDAR
VERSION:2.0
PRODID:SchoolNow
CALSCALE:GREGORIAN
BEGIN:VEVENT
UID:f9fa3174-e7e1-11ef-8460-0a58a9feac02
DTSTAMP:20251216T154633Z
SUMMARY:Chess vs Gower AWAY 7941 S Madison St Burr Ridge
LOCATION:Gower Middle School\, 7941 S Madison St\, Burr Ridge\, IL 60527\, 
 USA
URL;VALUE=URI:https://www.cusd201.org/wjhs/calendar/7449567/chess-vs-gower-
 away-7941-s-madison-st-burr-ridge
DTSTART:20260205T221500Z
DTEND:20260205T231500Z
END:VEVENT
END:VCALENDAR
