BEGIN:VCALENDAR
VERSION:2.0
PRODID:SchoolNow
CALSCALE:GREGORIAN
BEGIN:VEVENT
UID:f9fa325a-e7e1-11ef-be08-0a58a9feac02
DTSTAMP:20251216T154633Z
SUMMARY:Chess SDEAA Tournament AWAY Cass 8502 Bailey Rd Darien
LOCATION:Cass Junior High School\, 8502 Bailey Rd\, Darien\, IL 60561\, USA
URL;VALUE=URI:https://www.cusd201.org/wjhs/calendar/7449568/chess-sdeaa-tou
 rnament-away-cass-8502-bailey-rd-darien
DTSTART:20260221T140000Z
DTEND:20260221T180000Z
END:VEVENT
END:VCALENDAR
