BEGIN:VCALENDAR
VERSION:2.0
PRODID:SchoolNow
CALSCALE:GREGORIAN
BEGIN:VEVENT
UID:d8ac94fa-ea78-11ef-9436-0affde8c3b4d
DTSTAMP:20251216T154634Z
SUMMARY:JV Boys Basketball vs Butler HOME
LOCATION:Westmont Junior High School\, 944 Oakwood Dr\, Westmont\, IL 60559
 \, USA\, WJHS-1-Gym (500)
URL;VALUE=URI:https://www.cusd201.org/wjhs/calendar/7466443/jv-boys-basketb
 all-vs-butler-home
DTSTART:20260112T221500Z
DTEND:20260112T231500Z
END:VEVENT
END:VCALENDAR
