BEGIN:VCALENDAR
VERSION:2.0
PRODID:SchoolNow
CALSCALE:GREGORIAN
BEGIN:VEVENT
UID:d8ac9d74-ea78-11ef-8e74-0affde8c3b4d
DTSTAMP:20251216T154634Z
SUMMARY:Varsity Boys Basketball vs Westview Hills HOME
LOCATION:Westmont Junior High School\, 944 Oakwood Dr\, Westmont\, IL 60559
 \, USA\, WJHS-1-Gym (500)
URL;VALUE=URI:https://www.cusd201.org/wjhs/calendar/7466450/varsity-boys-ba
 sketball-vs-westview-hills-home
DTSTART:20260106T221500Z
DTEND:20260106T231500Z
END:VEVENT
END:VCALENDAR
