BEGIN:VCALENDAR
VERSION:2.0
PRODID:SchoolNow
CALSCALE:GREGORIAN
BEGIN:VEVENT
UID:d8ac9f40-ea78-11ef-a8c5-0affde8c3b4d
DTSTAMP:20251216T154633Z
SUMMARY:Varsity Boys Basketball vs Eisenhower HOME
LOCATION:Westmont Junior High School\, 944 Oakwood Dr\, Westmont\, IL 60559
 \, USA\, WJHS-1-Gym (500)
URL;VALUE=URI:https://www.cusd201.org/wjhs/calendar/7466452/varsity-boys-ba
 sketball-vs-eisenhower-home
DTSTART:20260115T221500Z
DTEND:20260115T231500Z
END:VEVENT
END:VCALENDAR
