BEGIN:VCALENDAR
VERSION:2.0
PRODID:SchoolNow
CALSCALE:GREGORIAN
BEGIN:VEVENT
UID:d8aca01c-ea78-11ef-8010-0affde8c3b4d
DTSTAMP:20251216T154634Z
SUMMARY:JV Boys Basketball vs Eisenhower HOME
LOCATION:Westmont Junior High School\, 944 Oakwood Dr\, Westmont\, IL 60559
 \, USA\, WJHS-1-Gym (500)
URL;VALUE=URI:https://www.cusd201.org/wjhs/calendar/7466453/jv-boys-basketb
 all-vs-eisenhower-home
DTSTART:20260115T231500Z
DTEND:20260116T001500Z
END:VEVENT
END:VCALENDAR
