BEGIN:VCALENDAR
VERSION:2.0
PRODID:SchoolNow
CALSCALE:GREGORIAN
BEGIN:VEVENT
UID:d8aca166-ea78-11ef-88da-0affde8c3b4d
DTSTAMP:20251216T154634Z
SUMMARY:Varsity Boys Basketball vs Old Quarry AWAY 16100 W 127th St\, Lemon
 t
LOCATION:Old Quarry Middle School\, 16100 W 127th St\, Lemont\, IL 60439\, 
 USA
URL;VALUE=URI:https://www.cusd201.org/wjhs/calendar/7466454/varsity-boys-ba
 sketball-vs-old-quarry-away-16100-w-127th-st-lemont
DTSTART:20260108T221500Z
DTEND:20260108T231500Z
END:VEVENT
END:VCALENDAR
