BEGIN:VCALENDAR
VERSION:2.0
PRODID:SchoolNow
CALSCALE:GREGORIAN
BEGIN:VEVENT
UID:d8aca24c-ea78-11ef-8019-0affde8c3b4d
DTSTAMP:20251216T154634Z
SUMMARY:JV Boys Basketball vs Old Quarry AWAY 16100 W 127th St\, Lemont
LOCATION:Old Quarry Middle School\, 16100 W 127th St\, Lemont\, IL 60439\, 
 USA
URL;VALUE=URI:https://www.cusd201.org/wjhs/calendar/7466455/jv-boys-basketb
 all-vs-old-quarry-away-16100-w-127th-st-lemont
DTSTART:20260108T231500Z
DTEND:20260109T001500Z
END:VEVENT
END:VCALENDAR
