BEGIN:VCALENDAR
VERSION:2.0
PRODID:SchoolNow
CALSCALE:GREGORIAN
BEGIN:VEVENT
UID:d8aca328-ea78-11ef-b4a6-0affde8c3b4d
DTSTAMP:20251216T154634Z
SUMMARY:Varsity Boys Basketball vs Lisle AWAY 5207 Center Ave
LOCATION:Lisle Junior High School\, 5207 Center Ave\, Lisle\, IL 60532\, US
 A
URL;VALUE=URI:https://www.cusd201.org/wjhs/calendar/7466456/varsity-boys-ba
 sketball-vs-lisle-away-5207-center-ave
DTSTART:20260109T221500Z
DTEND:20260109T231500Z
END:VEVENT
END:VCALENDAR
