BEGIN:VCALENDAR
VERSION:2.0
PRODID:SchoolNow
CALSCALE:GREGORIAN
BEGIN:VEVENT
UID:d8aca4ea-ea78-11ef-b2ab-0affde8c3b4d
DTSTAMP:20251216T154634Z
SUMMARY:Varsity Boys Basketball vs Gower AWAY 7941 S Madison St\, Burr Ridg
 e
LOCATION:Gower Middle School\, 7941 S Madison St\, Burr Ridge\, IL 60527\, 
 USA
URL;VALUE=URI:https://www.cusd201.org/wjhs/calendar/7466458/varsity-boys-ba
 sketball-vs-gower-away-7941-s-madison-st-burr-ridge
DTSTART:20260113T221500Z
DTEND:20260113T231500Z
END:VEVENT
END:VCALENDAR
