BEGIN:VCALENDAR
VERSION:2.0
PRODID:SchoolNow
CALSCALE:GREGORIAN
BEGIN:VEVENT
UID:d8aca5bc-ea78-11ef-902d-0affde8c3b4d
DTSTAMP:20251216T154635Z
SUMMARY:JV Boys Basketball vs Gower AWAY 7941 S Madison St\, Burr Ridge
LOCATION:Gower Middle School\, 7941 S Madison St\, Burr Ridge\, IL 60527\, 
 USA
URL;VALUE=URI:https://www.cusd201.org/wjhs/calendar/7466459/jv-boys-basketb
 all-vs-gower-away-7941-s-madison-st-burr-ridge
DTSTART:20260113T231500Z
DTEND:20260114T001500Z
END:VEVENT
END:VCALENDAR
