BEGIN:VCALENDAR
VERSION:2.0
PRODID:SchoolNow
CALSCALE:GREGORIAN
BEGIN:VEVENT
UID:d8aca698-ea78-11ef-85cf-0affde8c3b4d
DTSTAMP:20251216T154634Z
SUMMARY:Varsity Boys Basketball vs Butler HOME
LOCATION:Westmont Junior High School\, 944 Oakwood Dr\, Westmont\, IL 60559
 \, USA\, WJHS-1-Gym (500)
URL;VALUE=URI:https://www.cusd201.org/wjhs/calendar/7466460/varsity-boys-ba
 sketball-vs-butler-home
DTSTART:20260112T231500Z
DTEND:20260113T001500Z
END:VEVENT
END:VCALENDAR
