BEGIN:VCALENDAR
VERSION:2.0
PRODID:SchoolNow
CALSCALE:GREGORIAN
BEGIN:VEVENT
UID:d8aca76a-ea78-11ef-9092-0affde8c3b4d
DTSTAMP:20251216T154633Z
SUMMARY:Varsity Boys Basketball SDEAA Tournament TBD
URL;VALUE=URI:https://www.cusd201.org/wjhs/calendar/7466461/varsity-boys-ba
 sketball-sdeaa-tournament-tbd
DTSTART:20260116T221500Z
DTEND:20260116T231500Z
END:VEVENT
END:VCALENDAR
