BEGIN:VCALENDAR
VERSION:2.0
PRODID:SchoolNow
CALSCALE:GREGORIAN
BEGIN:VEVENT
UID:d21960b6-eb11-11ef-878e-021b553f1ff5
DTSTAMP:20251216T154633Z
SUMMARY:Wrestling vs Herrick/Burr Ridge AWAY  4435 Middaugh Ave\, Downers G
 rove
LOCATION:Herrick Middle School\, 4435 Middaugh Ave\, Downers Grove\, IL 605
 15\, USA
URL;VALUE=URI:https://www.cusd201.org/wjhs/calendar/7469892/wrestling-vs-he
 rrick-burr-ridge-away-4435-middaugh-ave-downers-grove
DTSTART:20260115T233000Z
DTEND:20260116T013000Z
END:VEVENT
END:VCALENDAR
