BEGIN:VCALENDAR
VERSION:2.0
PRODID:SchoolNow
CALSCALE:GREGORIAN
BEGIN:VEVENT
UID:d2196264-eb11-11ef-85e7-021b553f1ff5
DTSTAMP:20251216T154634Z
SUMMARY:Wrestling vs Old Quarry HOME
LOCATION:Westmont Junior High School\, 944 Oakwood Dr\, Westmont\, IL 60559
 \, USA\, WJHS-1-Gym (500)
URL;VALUE=URI:https://www.cusd201.org/wjhs/calendar/7469893/wrestling-vs-ol
 d-quarry-home
DTSTART:20260210T221500Z
DTEND:20260211T001500Z
END:VEVENT
END:VCALENDAR
