BEGIN:VCALENDAR
VERSION:2.0
PRODID:SchoolNow
CALSCALE:GREGORIAN
BEGIN:VEVENT
UID:d21963f4-eb11-11ef-b1aa-021b553f1ff5
DTSTAMP:20251216T154634Z
SUMMARY:Wrestling vs Lisle/O'Neill HOME
LOCATION:Westmont Junior High School\, 944 Oakwood Dr\, Westmont\, IL 60559
 \, USA\, WJHS-1-Gym (500)
URL;VALUE=URI:https://www.cusd201.org/wjhs/calendar/7469894/wrestling-vs-li
 sle-oneill-home
DTSTART:20260202T221500Z
DTEND:20260203T001500Z
END:VEVENT
END:VCALENDAR
