BEGIN:VCALENDAR
VERSION:2.0
PRODID:SchoolNow
CALSCALE:GREGORIAN
BEGIN:VEVENT
UID:d21964f8-eb11-11ef-8407-021b553f1ff5
DTSTAMP:20251216T154634Z
SUMMARY:Wrestling SDEAA Tournament
URL;VALUE=URI:https://www.cusd201.org/wjhs/calendar/7469895/wrestling-sdeaa
 -tournament
DTSTART;VALUE=DATE:20260221
DTEND;VALUE=DATE:20260222
END:VEVENT
END:VCALENDAR
