BEGIN:VCALENDAR
VERSION:2.0
PRODID:SchoolNow
CALSCALE:GREGORIAN
BEGIN:VEVENT
UID:d21965de-eb11-11ef-b65f-021b553f1ff5
DTSTAMP:20251216T154634Z
SUMMARY:Wrestling vs Jefferson HOME
LOCATION:Westmont Junior High School\, 944 Oakwood Dr\, Westmont\, IL 60559
 \, USA\, WJHS-1-Gym (500)
URL;VALUE=URI:https://www.cusd201.org/wjhs/calendar/7469896/wrestling-vs-je
 fferson-home
DTSTART:20260126T221500Z
DTEND:20260127T001500Z
END:VEVENT
END:VCALENDAR
