BEGIN:VCALENDAR
VERSION:2.0
PRODID:SchoolNow
CALSCALE:GREGORIAN
BEGIN:VEVENT
UID:69f80514-13e8-11f0-b5f4-0affd643f14d
DTSTAMP:20251216T154634Z
SUMMARY:Boys Volleyball vs Burr Ridge AWAY 15W451 91st St\, Burr Ridge
LOCATION:Burr Ridge Middle School\, 15W451 91st St\, Burr Ridge\, IL 60527\
 , USA
URL;VALUE=URI:https://www.cusd201.org/wjhs/calendar/7873830/boys-volleyball
 -vs-burr-ridge-away-15w451-91st-st-burr-ridge
DTSTART:20260414T211500Z
DTEND:20260414T221500Z
END:VEVENT
END:VCALENDAR
