BEGIN:VCALENDAR
VERSION:2.0
PRODID:SchoolNow
CALSCALE:GREGORIAN
BEGIN:VEVENT
UID:69f80622-13e8-11f0-9147-0affd643f14d
DTSTAMP:20251216T154634Z
SUMMARY:Boys Volleyball vs Lakeview HOME
LOCATION:\, WJHS-1-Gym (500)
URL;VALUE=URI:https://www.cusd201.org/wjhs/calendar/7873831/boys-volleyball
 -vs-lakeview-home
DTSTART:20260421T211500Z
DTEND:20260421T221500Z
END:VEVENT
END:VCALENDAR
