BEGIN:VCALENDAR
VERSION:2.0
PRODID:SchoolNow
CALSCALE:GREGORIAN
BEGIN:VEVENT
UID:69f8071c-13e8-11f0-b3dc-0affd643f14d
DTSTAMP:20251216T154634Z
SUMMARY:Boys Volleyball vs Jefferson HOME
LOCATION:\, WJHS-1-Gym (500)
URL;VALUE=URI:https://www.cusd201.org/wjhs/calendar/7873832/boys-volleyball
 -vs-jefferson-home
DTSTART:20260423T211500Z
DTEND:20260423T221500Z
END:VEVENT
END:VCALENDAR
