BEGIN:VCALENDAR
VERSION:2.0
PRODID:SchoolNow
CALSCALE:GREGORIAN
BEGIN:VEVENT
UID:69f8080c-13e8-11f0-a025-0affd643f14d
DTSTAMP:20251216T154634Z
SUMMARY:Boys Volleyball vs Gower AWAY 7941 S Madison St\, Burr Ridge
LOCATION:Gower Middle School\, 7941 S Madison St\, Burr Ridge\, IL 60527\, 
 USA
URL;VALUE=URI:https://www.cusd201.org/wjhs/calendar/7873833/boys-volleyball
 -vs-gower-away-7941-s-madison-st-burr-ridge
DTSTART:20260427T211500Z
DTEND:20260427T221500Z
END:VEVENT
END:VCALENDAR
