BEGIN:VCALENDAR
VERSION:2.0
PRODID:SchoolNow
CALSCALE:GREGORIAN
BEGIN:VEVENT
UID:69f808fc-13e8-11f0-8e16-0affd643f14d
DTSTAMP:20251216T154634Z
SUMMARY:Boys Volleyball vs Westview Hills HOME
LOCATION:\, WJHS-1-Gym (500)
URL;VALUE=URI:https://www.cusd201.org/wjhs/calendar/7873834/boys-volleyball
 -vs-westview-hills-home
DTSTART:20260428T211500Z
DTEND:20260428T221500Z
END:VEVENT
END:VCALENDAR
