BEGIN:VCALENDAR
VERSION:2.0
PRODID:SchoolNow
CALSCALE:GREGORIAN
BEGIN:VEVENT
UID:69f80e2e-13e8-11f0-a6ae-0affd643f14d
DTSTAMP:20251216T154634Z
SUMMARY:Wrestling vs Caruso Tournament AWAY 1801 Montgomery Rd Deerfield We
 igh In: 7:15 am/Wrestle: 9:00 am
LOCATION:Caruso Middle School\, 1801 Montgomery Rd\, Deerfield\, IL 60015\,
  USA
URL;VALUE=URI:https://www.cusd201.org/wjhs/calendar/7873839/wrestling-vs-ca
 ruso-tournament-away-1801-montgomery-rd-deerfield-weigh-in-7-15-am-wrestle
 -9-00-am
DTSTART:20260124T130000Z
DTEND:20260124T180000Z
END:VEVENT
END:VCALENDAR
