BEGIN:VCALENDAR
VERSION:2.0
PRODID:SchoolNow
CALSCALE:GREGORIAN
BEGIN:VEVENT
UID:69f80f14-13e8-11f0-baf6-0affd643f14d
DTSTAMP:20251216T154634Z
SUMMARY:Varsity Girls Volleyball vs Gower HOME
LOCATION:WJHS-1-Gym (500)
URL;VALUE=URI:https://www.cusd201.org/wjhs/calendar/7873840/varsity-girls-v
 olleyball-vs-gower-home
DTSTART:20260203T221500Z
DTEND:20260203T231500Z
END:VEVENT
END:VCALENDAR
