BEGIN:VCALENDAR
VERSION:2.0
PRODID:SchoolNow
CALSCALE:GREGORIAN
BEGIN:VEVENT
UID:69f80ff0-13e8-11f0-ba7a-0affd643f14d
DTSTAMP:20251216T154634Z
SUMMARY:JV Girls Volleyball vs Gower HOME
LOCATION:WJHS-1-Gym (500)
URL;VALUE=URI:https://www.cusd201.org/wjhs/calendar/7873841/jv-girls-volley
 ball-vs-gower-home
DTSTART:20260203T231500Z
DTEND:20260204T001500Z
END:VEVENT
END:VCALENDAR
