BEGIN:VCALENDAR
VERSION:2.0
PRODID:SchoolNow
CALSCALE:GREGORIAN
BEGIN:VEVENT
UID:69f810d6-13e8-11f0-be58-0affd643f14d
DTSTAMP:20251216T154634Z
SUMMARY:Varsity Girls Volleyball vs Jefferson HOME
LOCATION:WJHS-1-Gym (500)
URL;VALUE=URI:https://www.cusd201.org/wjhs/calendar/7873842/varsity-girls-v
 olleyball-vs-jefferson-home
DTSTART:20260209T221500Z
DTEND:20260209T231500Z
END:VEVENT
END:VCALENDAR
