BEGIN:VCALENDAR
VERSION:2.0
PRODID:SchoolNow
CALSCALE:GREGORIAN
BEGIN:VEVENT
UID:69f811b2-13e8-11f0-b606-0affd643f14d
DTSTAMP:20251216T154633Z
SUMMARY:JV Girls Volleyball vs Jefferson HOME
LOCATION:WJHS-1-Gym (500)
URL;VALUE=URI:https://www.cusd201.org/wjhs/calendar/7873843/jv-girls-volley
 ball-vs-jefferson-home
DTSTART:20260209T231500Z
DTEND:20260210T001500Z
END:VEVENT
END:VCALENDAR
